BEGIN:VCALENDAR
VERSION:2.0
PRODID:-//Jörg Stroedter - ECPv6.15.20//NONSGML v1.0//EN
CALSCALE:GREGORIAN
METHOD:PUBLISH
X-WR-CALNAME:Jörg Stroedter
X-ORIGINAL-URL:https://joerg-stroedter.de
X-WR-CALDESC:Veranstaltungen für Jörg Stroedter
REFRESH-INTERVAL;VALUE=DURATION:PT1H
X-Robots-Tag:noindex
X-PUBLISHED-TTL:PT1H
BEGIN:VTIMEZONE
TZID:Europe/Berlin
BEGIN:DAYLIGHT
TZOFFSETFROM:+0100
TZOFFSETTO:+0200
TZNAME:CEST
DTSTART:20190331T010000
END:DAYLIGHT
BEGIN:STANDARD
TZOFFSETFROM:+0200
TZOFFSETTO:+0100
TZNAME:CET
DTSTART:20191027T010000
END:STANDARD
BEGIN:DAYLIGHT
TZOFFSETFROM:+0100
TZOFFSETTO:+0200
TZNAME:CEST
DTSTART:20200329T010000
END:DAYLIGHT
BEGIN:STANDARD
TZOFFSETFROM:+0200
TZOFFSETTO:+0100
TZNAME:CET
DTSTART:20201025T010000
END:STANDARD
BEGIN:DAYLIGHT
TZOFFSETFROM:+0100
TZOFFSETTO:+0200
TZNAME:CEST
DTSTART:20210328T010000
END:DAYLIGHT
BEGIN:STANDARD
TZOFFSETFROM:+0200
TZOFFSETTO:+0100
TZNAME:CET
DTSTART:20211031T010000
END:STANDARD
END:VTIMEZONE
BEGIN:VEVENT
DTSTART;TZID=Europe/Berlin:20201105T100000
DTEND;TZID=Europe/Berlin:20201105T220000
DTSTAMP:20260426T044449
CREATED:20200213T121535Z
LAST-MODIFIED:20200213T121535Z
UID:1591-1604570400-1604613600@joerg-stroedter.de
SUMMARY:Plenum
DESCRIPTION:
URL:https://joerg-stroedter.de/veranstaltungen/plenum-14/
LOCATION:Abgeordnetenhaus von Berlin\, Niederkirchnerstraße 5\, Berlin\, Berlin\, 10117\, Deutschland
END:VEVENT
BEGIN:VEVENT
DTSTART;TZID=Europe/Berlin:20201113T110000
DTEND;TZID=Europe/Berlin:20201113T170000
DTSTAMP:20260426T044449
CREATED:20200909T123159Z
LAST-MODIFIED:20200909T123224Z
UID:1990-1605265200-1605286800@joerg-stroedter.de
SUMMARY:Untersuchungsausschuss "BER II" 13.11.2020
DESCRIPTION:Link: Abgeordnetenhaus
URL:https://joerg-stroedter.de/veranstaltungen/untersuchungsausschuss-ber-ii-13-11-2020/
LOCATION:Abgeordnetenhaus von Berlin\, Niederkirchnerstraße 5\, Berlin\, Berlin\, 10117\, Deutschland
END:VEVENT
BEGIN:VEVENT
DTSTART;TZID=Europe/Berlin:20201119T100000
DTEND;TZID=Europe/Berlin:20201119T220000
DTSTAMP:20260426T044449
CREATED:20200213T121609Z
LAST-MODIFIED:20200213T121609Z
UID:1593-1605780000-1605823200@joerg-stroedter.de
SUMMARY:Plenum
DESCRIPTION:
URL:https://joerg-stroedter.de/veranstaltungen/plenum-15/
LOCATION:Abgeordnetenhaus von Berlin\, Niederkirchnerstraße 5\, Berlin\, Berlin\, 10117\, Deutschland
END:VEVENT
BEGIN:VEVENT
DTSTART;TZID=Europe/Berlin:20201127T110000
DTEND;TZID=Europe/Berlin:20201127T170000
DTSTAMP:20260426T044449
CREATED:20200909T123305Z
LAST-MODIFIED:20200909T123332Z
UID:1993-1606474800-1606496400@joerg-stroedter.de
SUMMARY:Untersuchungsausschuss "BER II" 27.11.2020
DESCRIPTION:Link: Abgeordnetenhaus
URL:https://joerg-stroedter.de/veranstaltungen/untersuchungsausschuss-ber-ii-27-11-2020/
LOCATION:Abgeordnetenhaus von Berlin\, Niederkirchnerstraße 5\, Berlin\, Berlin\, 10117\, Deutschland
END:VEVENT
END:VCALENDAR