BEGIN:VCALENDAR
VERSION:2.0
PRODID:-//Jörg Stroedter - ECPv6.15.20//NONSGML v1.0//EN
CALSCALE:GREGORIAN
METHOD:PUBLISH
X-WR-CALNAME:Jörg Stroedter
X-ORIGINAL-URL:https://joerg-stroedter.de
X-WR-CALDESC:Veranstaltungen für Jörg Stroedter
REFRESH-INTERVAL;VALUE=DURATION:PT1H
X-Robots-Tag:noindex
X-PUBLISHED-TTL:PT1H
BEGIN:VTIMEZONE
TZID:Europe/Berlin
BEGIN:DAYLIGHT
TZOFFSETFROM:+0100
TZOFFSETTO:+0200
TZNAME:CEST
DTSTART:20190331T010000
END:DAYLIGHT
BEGIN:STANDARD
TZOFFSETFROM:+0200
TZOFFSETTO:+0100
TZNAME:CET
DTSTART:20191027T010000
END:STANDARD
BEGIN:DAYLIGHT
TZOFFSETFROM:+0100
TZOFFSETTO:+0200
TZNAME:CEST
DTSTART:20200329T010000
END:DAYLIGHT
BEGIN:STANDARD
TZOFFSETFROM:+0200
TZOFFSETTO:+0100
TZNAME:CET
DTSTART:20201025T010000
END:STANDARD
BEGIN:DAYLIGHT
TZOFFSETFROM:+0100
TZOFFSETTO:+0200
TZNAME:CEST
DTSTART:20210328T010000
END:DAYLIGHT
BEGIN:STANDARD
TZOFFSETFROM:+0200
TZOFFSETTO:+0100
TZNAME:CET
DTSTART:20211031T010000
END:STANDARD
END:VTIMEZONE
BEGIN:VEVENT
DTSTART;TZID=Europe/Berlin:20201001T100000
DTEND;TZID=Europe/Berlin:20201001T220000
DTSTAMP:20260426T061629
CREATED:20200213T121451Z
LAST-MODIFIED:20200213T121451Z
UID:1589-1601546400-1601589600@joerg-stroedter.de
SUMMARY:Plenum
DESCRIPTION:
URL:https://joerg-stroedter.de/veranstaltungen/plenum-13/
LOCATION:Abgeordnetenhaus von Berlin\, Niederkirchnerstraße 5\, Berlin\, Berlin\, 10117\, Deutschland
END:VEVENT
BEGIN:VEVENT
DTSTART;TZID=Europe/Berlin:20201030T110000
DTEND;TZID=Europe/Berlin:20201030T170000
DTSTAMP:20260426T061629
CREATED:20200909T123033Z
LAST-MODIFIED:20200909T123102Z
UID:1987-1604055600-1604077200@joerg-stroedter.de
SUMMARY:Untersuchungsausschuss "BER II" 30.10.2020
DESCRIPTION:Link: Abgeordnetenhaus
URL:https://joerg-stroedter.de/veranstaltungen/untersuchungsausschuss-ber-ii-30-10-2020/
LOCATION:Abgeordnetenhaus von Berlin\, Niederkirchnerstraße 5\, Berlin\, Berlin\, 10117\, Deutschland
END:VEVENT
END:VCALENDAR